BEGIN:VCALENDAR
VERSION:2.0
PRODID:-//auxpunks - ECPv6.15.11//NONSGML v1.0//EN
CALSCALE:GREGORIAN
METHOD:PUBLISH
X-WR-CALNAME:auxpunks
X-ORIGINAL-URL:https://auxpunks.uber.space
X-WR-CALDESC:Veranstaltungen für auxpunks
REFRESH-INTERVAL;VALUE=DURATION:PT1H
X-Robots-Tag:noindex
X-PUBLISHED-TTL:PT1H
BEGIN:VTIMEZONE
TZID:Europe/Berlin
BEGIN:DAYLIGHT
TZOFFSETFROM:+0100
TZOFFSETTO:+0200
TZNAME:CEST
DTSTART:20240331T010000
END:DAYLIGHT
BEGIN:STANDARD
TZOFFSETFROM:+0200
TZOFFSETTO:+0100
TZNAME:CET
DTSTART:20241027T010000
END:STANDARD
BEGIN:DAYLIGHT
TZOFFSETFROM:+0100
TZOFFSETTO:+0200
TZNAME:CEST
DTSTART:20250330T010000
END:DAYLIGHT
BEGIN:STANDARD
TZOFFSETFROM:+0200
TZOFFSETTO:+0100
TZNAME:CET
DTSTART:20251026T010000
END:STANDARD
BEGIN:DAYLIGHT
TZOFFSETFROM:+0100
TZOFFSETTO:+0200
TZNAME:CEST
DTSTART:20260329T010000
END:DAYLIGHT
BEGIN:STANDARD
TZOFFSETFROM:+0200
TZOFFSETTO:+0100
TZNAME:CET
DTSTART:20261025T010000
END:STANDARD
END:VTIMEZONE
BEGIN:VEVENT
DTSTART;TZID=Europe/Berlin:20250915T163000
DTEND;TZID=Europe/Berlin:20250915T193000
DTSTAMP:20260423T214439
CREATED:20250913T082724Z
LAST-MODIFIED:20250913T082725Z
UID:10015792-1757953800-1757964600@auxpunks.uber.space
SUMMARY:Politische Emotionen künstlerisch umsetzen
DESCRIPTION:„Ahhhhh\, was passiert hier?!“ Naheliegender Gedanke\, wenn wir so in die Welt schauen… wohin sollen wir fühlen? Bei sämtlichen politischen Themen brodelt Wut\, anderswo wächst Zusammenhalt und und und… wie wir diese Gefühle auch nennen\, sie brauchen Raum. \n\nDarum lädt das Kollektief am Montag\, den 15.09\, ab 16:30 Uhr in den Dompark zu einer offenen Runde ein. Wir wollen uns erzählen und zuhören und das Ganze mit Kunst verbinden. \nEs sind keine Skills vorausgesetzt\, bisschen Bastelkrimskrams haben wir am Start – wer aber mag kann gern noch was (oder Snacks!) mitbringen 🙂\n\nWir freuen uns\, wer kommt!
URL:https://auxpunks.uber.space/event/politische-emotionen-kuenstlerisch-umsetzen/
LOCATION:Dompark\, Dompark\, Augsburg\, Bayern\, Deutschland
CATEGORIES:Vorträge, Filme & Workshops
END:VEVENT
END:VCALENDAR