BEGIN:VCALENDAR
VERSION:2.0
PRODID:-//auxpunks - ECPv6.15.11//NONSGML v1.0//EN
CALSCALE:GREGORIAN
METHOD:PUBLISH
X-WR-CALNAME:auxpunks
X-ORIGINAL-URL:https://auxpunks.uber.space
X-WR-CALDESC:Veranstaltungen für auxpunks
REFRESH-INTERVAL;VALUE=DURATION:PT1H
X-Robots-Tag:noindex
X-PUBLISHED-TTL:PT1H
BEGIN:VTIMEZONE
TZID:Europe/Berlin
BEGIN:DAYLIGHT
TZOFFSETFROM:+0100
TZOFFSETTO:+0200
TZNAME:CEST
DTSTART:20240331T010000
END:DAYLIGHT
BEGIN:STANDARD
TZOFFSETFROM:+0200
TZOFFSETTO:+0100
TZNAME:CET
DTSTART:20241027T010000
END:STANDARD
BEGIN:DAYLIGHT
TZOFFSETFROM:+0100
TZOFFSETTO:+0200
TZNAME:CEST
DTSTART:20250330T010000
END:DAYLIGHT
BEGIN:STANDARD
TZOFFSETFROM:+0200
TZOFFSETTO:+0100
TZNAME:CET
DTSTART:20251026T010000
END:STANDARD
BEGIN:DAYLIGHT
TZOFFSETFROM:+0100
TZOFFSETTO:+0200
TZNAME:CEST
DTSTART:20260329T010000
END:DAYLIGHT
BEGIN:STANDARD
TZOFFSETFROM:+0200
TZOFFSETTO:+0100
TZNAME:CET
DTSTART:20261025T010000
END:STANDARD
END:VTIMEZONE
BEGIN:VEVENT
DTSTART;TZID=Europe/Berlin:20250913T140000
DTEND;TZID=Europe/Berlin:20250913T230000
DTSTAMP:20260423T214445
CREATED:20250907T064807Z
LAST-MODIFIED:20250907T064807Z
UID:10015776-1757772000-1757804400@auxpunks.uber.space
SUMMARY:AUXfest 2025
DESCRIPTION:Am Samstag\, den 13. September 2025\, steigt unser erstes AUXfest Open Air! 🤩\n\nAb 14 Uhr an der Musikbox am Gaskessel.\n\nMit dabei sind verschiedene Acts der lokalen Musikszene aus den Bereichen Punk\, Rock und Metal. 🎸🤘\n\nATLANTIS BEACH MOTEL\nDARK MONUMENT\nGORY BANANAS\nHIVE LEADER\nMETAVOID\nNO BAILOUT\nCLEAR BLUE SKY\nBACKROOM ETHICS \n\nEintritt ist auf Spendenbasis!
URL:https://auxpunks.uber.space/event/auxfest-2025/
LOCATION:Gaswerk Augsburg
ATTACH;FMTTYPE=image/png:https://auxpunks.uber.space/wp-content/uploads/2025/09/AUXfest_Post.png
END:VEVENT
END:VCALENDAR