BEGIN:VCALENDAR
VERSION:2.0
PRODID:-//auxpunks - ECPv6.15.11//NONSGML v1.0//EN
CALSCALE:GREGORIAN
METHOD:PUBLISH
X-ORIGINAL-URL:https://auxpunks.uber.space
X-WR-CALDESC:Veranstaltungen für auxpunks
REFRESH-INTERVAL;VALUE=DURATION:PT1H
X-Robots-Tag:noindex
X-PUBLISHED-TTL:PT1H
BEGIN:VTIMEZONE
TZID:Europe/Berlin
BEGIN:DAYLIGHT
TZOFFSETFROM:+0100
TZOFFSETTO:+0200
TZNAME:CEST
DTSTART:20240331T010000
END:DAYLIGHT
BEGIN:STANDARD
TZOFFSETFROM:+0200
TZOFFSETTO:+0100
TZNAME:CET
DTSTART:20241027T010000
END:STANDARD
BEGIN:DAYLIGHT
TZOFFSETFROM:+0100
TZOFFSETTO:+0200
TZNAME:CEST
DTSTART:20250330T010000
END:DAYLIGHT
BEGIN:STANDARD
TZOFFSETFROM:+0200
TZOFFSETTO:+0100
TZNAME:CET
DTSTART:20251026T010000
END:STANDARD
BEGIN:DAYLIGHT
TZOFFSETFROM:+0100
TZOFFSETTO:+0200
TZNAME:CEST
DTSTART:20260329T010000
END:DAYLIGHT
BEGIN:STANDARD
TZOFFSETFROM:+0200
TZOFFSETTO:+0100
TZNAME:CET
DTSTART:20261025T010000
END:STANDARD
END:VTIMEZONE
BEGIN:VEVENT
DTSTART;TZID=Europe/Berlin:20250430T183000
DTEND;TZID=Europe/Berlin:20250430T200000
DTSTAMP:20260423T101244
CREATED:20250429T154950Z
LAST-MODIFIED:20250430T091855Z
UID:10014561-1746037800-1746043200@auxpunks.uber.space
SUMMARY:Vorabenddemo zum 1. Mai: Reclaim the night!
DESCRIPTION:Tanzdemo in München. \nFür intersektionale\, queerfeministische Solidarität und mehr Unbeschwerheit für Flinta* im Nachtleben.
URL:https://auxpunks.uber.space/event/vorabenddemo-zum-1-mai-reclaim-the-night/
LOCATION:Georg-Freundorfer-Platz (München)
CATEGORIES:Demos & Aktionen
ATTACH;FMTTYPE=image/png:https://auxpunks.uber.space/wp-content/uploads/2025/04/TanzdemoMuenchen.png
END:VEVENT
END:VCALENDAR