BEGIN:VCALENDAR
VERSION:2.0
PRODID:-//auxpunks - ECPv6.15.11//NONSGML v1.0//EN
CALSCALE:GREGORIAN
METHOD:PUBLISH
X-ORIGINAL-URL:https://auxpunks.uber.space
X-WR-CALDESC:Veranstaltungen für auxpunks
REFRESH-INTERVAL;VALUE=DURATION:PT1H
X-Robots-Tag:noindex
X-PUBLISHED-TTL:PT1H
BEGIN:VTIMEZONE
TZID:Europe/Berlin
BEGIN:DAYLIGHT
TZOFFSETFROM:+0100
TZOFFSETTO:+0200
TZNAME:CEST
DTSTART:20250330T010000
END:DAYLIGHT
BEGIN:STANDARD
TZOFFSETFROM:+0200
TZOFFSETTO:+0100
TZNAME:CET
DTSTART:20251026T010000
END:STANDARD
BEGIN:DAYLIGHT
TZOFFSETFROM:+0100
TZOFFSETTO:+0200
TZNAME:CEST
DTSTART:20260329T010000
END:DAYLIGHT
BEGIN:STANDARD
TZOFFSETFROM:+0200
TZOFFSETTO:+0100
TZNAME:CET
DTSTART:20261025T010000
END:STANDARD
BEGIN:DAYLIGHT
TZOFFSETFROM:+0100
TZOFFSETTO:+0200
TZNAME:CEST
DTSTART:20270328T010000
END:DAYLIGHT
BEGIN:STANDARD
TZOFFSETFROM:+0200
TZOFFSETTO:+0100
TZNAME:CET
DTSTART:20271031T010000
END:STANDARD
END:VTIMEZONE
BEGIN:VEVENT
DTSTART;TZID=Europe/Berlin:20260313T190000
DTEND;TZID=Europe/Berlin:20260313T210000
DTSTAMP:20260420T231516
CREATED:20260312T151345Z
LAST-MODIFIED:20260312T151346Z
UID:10016632-1773428400-1773435600@auxpunks.uber.space
SUMMARY:Vortrag & Diskussion: Wie moderne Faschist:innen die Gewerkschaften zerschlagen wollen - und wie wir das verhindern!
DESCRIPTION:Faschist:innen raus aus den Betrieben! Sie sorgen für Spaltung und Hetze unter uns Arbeiter:innen\, wir stehen für Solidarität!\n\nMit Jörgen Scheller (IGM-VK Mercedes-Stuttgart) und Götz Schubert (VVN-Stuttgart).\n\nEinteitt frei\, Essen und Getränke gegen Spende.\n\nVortrag mit anschließender Diskussion: Am 13.03. um 19 Uhr im Internationalen Kulturzentrum (Zusamstr. 9\, Quergebäude im Hinterhof).
URL:https://auxpunks.uber.space/event/vortrag-diskussion-wie-moderne-faschistinnen-die-gewerkschaften-zerschlagen-wollen-und-wie-wir-das-verhindern/
LOCATION:IKZ (Internationales Kulturzentrum)\, Zusamstr. 9\, Augsburg-Lechhausen
CATEGORIES:Vorträge, Filme & Workshops
ATTACH;FMTTYPE=image/png:https://auxpunks.uber.space/wp-content/uploads/2026/03/vortrag-zentrum_sharepic_2026-03-13_1.cleaned.png
END:VEVENT
BEGIN:VEVENT
DTSTART;TZID=Europe/Berlin:20260313T190000
DTEND;TZID=Europe/Berlin:20260313T210000
DTSTAMP:20260420T231516
CREATED:20260311T072747Z
LAST-MODIFIED:20260311T072748Z
UID:10016629-1773428400-1773435600@auxpunks.uber.space
SUMMARY:Vortrag + Diskussion: Moderner Faschismus in Gewerkschaften
DESCRIPTION:Das Bündnis Antifaschistisch & Solidarisch Augsburg lädt ein zu einem Vortrag mit anschließender Diskussion: Wie moderne Faschist:innen die Gewerkschaften zerschlagen wollen – und wie wir das verhindern! \n\n\n\nNazis raus aus den Betrieben! Am Beispiel der faschistischen Betriebsgruppe „Zentrum“ bei Mercedes-Benz Stuttgart.Mit Jörgen Scheller (IGM-VK Mercedes-Stuttgart) und Götz Schubert (VVN-Stuttgart). \n\n\n\nEintritt frei\, Spenden erbeten.Essen und Getränke gegen Spende. \n\n\n\nFreitag\, 13.03.\, 19 UhrInternationales KulturzentrumZusamstr. 9\, Augsburg-LechhausenQuergebäude im Hinterhof
URL:https://auxpunks.uber.space/event/vortrag-diskussion-moderner-faschismus-in-gewerkschaften/
LOCATION:IKZ (Internationales Kulturzentrum)\, Zusamstr. 9\, Augsburg-Lechhausen
CATEGORIES:Vorträge, Filme & Workshops
ATTACH;FMTTYPE=image/png:https://auxpunks.uber.space/wp-content/uploads/2026/03/signal-2026-03-11-002943_002.png
END:VEVENT
END:VCALENDAR