BEGIN:VCALENDAR
VERSION:2.0
PRODID:-//auxpunks - ECPv6.15.11//NONSGML v1.0//EN
CALSCALE:GREGORIAN
METHOD:PUBLISH
X-ORIGINAL-URL:https://auxpunks.uber.space
X-WR-CALDESC:Veranstaltungen für auxpunks
REFRESH-INTERVAL;VALUE=DURATION:PT1H
X-Robots-Tag:noindex
X-PUBLISHED-TTL:PT1H
BEGIN:VTIMEZONE
TZID:Europe/Berlin
BEGIN:DAYLIGHT
TZOFFSETFROM:+0100
TZOFFSETTO:+0200
TZNAME:CEST
DTSTART:20250330T010000
END:DAYLIGHT
BEGIN:STANDARD
TZOFFSETFROM:+0200
TZOFFSETTO:+0100
TZNAME:CET
DTSTART:20251026T010000
END:STANDARD
BEGIN:DAYLIGHT
TZOFFSETFROM:+0100
TZOFFSETTO:+0200
TZNAME:CEST
DTSTART:20260329T010000
END:DAYLIGHT
BEGIN:STANDARD
TZOFFSETFROM:+0200
TZOFFSETTO:+0100
TZNAME:CET
DTSTART:20261025T010000
END:STANDARD
BEGIN:DAYLIGHT
TZOFFSETFROM:+0100
TZOFFSETTO:+0200
TZNAME:CEST
DTSTART:20270328T010000
END:DAYLIGHT
BEGIN:STANDARD
TZOFFSETFROM:+0200
TZOFFSETTO:+0100
TZNAME:CET
DTSTART:20271031T010000
END:STANDARD
END:VTIMEZONE
BEGIN:VEVENT
DTSTART;TZID=Europe/Berlin:20260119T180000
DTEND;TZID=Europe/Berlin:20260119T200000
DTSTAMP:20260421T001806
CREATED:20260109T083954Z
LAST-MODIFIED:20260109T083955Z
UID:10016042-1768845600-1768852800@auxpunks.uber.space
SUMMARY:Presseworkshop
DESCRIPTION:Die Presse als 4. Gewalt ist für den öffentlichen Diskurs sehr wichtig.Gemeinsam wollen wir voneinander lernen wie wir unsere Themen gut an die Presse vermitteln.Das beinhaltet Pressemitteilungen schreiben und vor der Presse zu sprechen.Außerdem lernen wir Methoden wie wir unsere Themen strukturieren und so eine durchgängige Pressestrategie entwickeln können.
URL:https://auxpunks.uber.space/event/presseworkshop/
LOCATION:Karo 10\, Karolinenstraße 10\, Augsburg\, 86150
CATEGORIES:Klimagerechtigkeit
ATTACH;FMTTYPE=image/png:https://auxpunks.uber.space/wp-content/uploads/2026/01/PresseworkshopKaro10.png
END:VEVENT
END:VCALENDAR