BEGIN:VCALENDAR
VERSION:2.0
PRODID:-//auxpunks - ECPv6.15.11//NONSGML v1.0//EN
CALSCALE:GREGORIAN
METHOD:PUBLISH
X-WR-CALNAME:auxpunks
X-ORIGINAL-URL:https://auxpunks.uber.space
X-WR-CALDESC:Veranstaltungen für auxpunks
REFRESH-INTERVAL;VALUE=DURATION:PT1H
X-Robots-Tag:noindex
X-PUBLISHED-TTL:PT1H
BEGIN:VTIMEZONE
TZID:Europe/Berlin
BEGIN:DAYLIGHT
TZOFFSETFROM:+0100
TZOFFSETTO:+0200
TZNAME:CEST
DTSTART:20240331T010000
END:DAYLIGHT
BEGIN:STANDARD
TZOFFSETFROM:+0200
TZOFFSETTO:+0100
TZNAME:CET
DTSTART:20241027T010000
END:STANDARD
BEGIN:DAYLIGHT
TZOFFSETFROM:+0100
TZOFFSETTO:+0200
TZNAME:CEST
DTSTART:20250330T010000
END:DAYLIGHT
BEGIN:STANDARD
TZOFFSETFROM:+0200
TZOFFSETTO:+0100
TZNAME:CET
DTSTART:20251026T010000
END:STANDARD
BEGIN:DAYLIGHT
TZOFFSETFROM:+0100
TZOFFSETTO:+0200
TZNAME:CEST
DTSTART:20260329T010000
END:DAYLIGHT
BEGIN:STANDARD
TZOFFSETFROM:+0200
TZOFFSETTO:+0100
TZNAME:CET
DTSTART:20261025T010000
END:STANDARD
BEGIN:DAYLIGHT
TZOFFSETFROM:+0100
TZOFFSETTO:+0200
TZNAME:CEST
DTSTART:20270328T010000
END:DAYLIGHT
BEGIN:STANDARD
TZOFFSETFROM:+0200
TZOFFSETTO:+0100
TZNAME:CET
DTSTART:20271031T010000
END:STANDARD
END:VTIMEZONE
BEGIN:VEVENT
DTSTART;TZID=Europe/Berlin:20260124T150000
DTEND;TZID=Europe/Berlin:20260124T180000
DTSTAMP:20260421T003506
CREATED:20260109T084208Z
LAST-MODIFIED:20260109T084209Z
UID:10016038-1769266800-1769277600@auxpunks.uber.space
SUMMARY:Karo10: Spielerisch der Klimakrise entgegen
DESCRIPTION:Auch Kinder sollen von der Zwischennutzung im Karo10 profitieren.\n\nDarum laden wir Euch herzlich ein\, mit uns einen Nachmittag in den ungewöhnlichen Räumlichkeiten eines ehemaligen Kaufhauses zu verbringen.\n\nBeim Spielen\, Basteln und Vorlesen könnt ihr bei uns viel Spaß haben und nebenbei etwas zum Thema Klimaschutz lernen!\n\nKommt gern vorbei\, wir halten für euch und eure Familie Tee\, Kaffee und Kekse bereit.\n\nWir freuen uns auf euch!
URL:https://auxpunks.uber.space/event/karo10-spielerisch-der-klimakrise-entgegen/
LOCATION:Karo10\, Karolinenstr. 10\, Augsburg\, 86150
CATEGORIES:Klimagerechtigkeit
ATTACH;FMTTYPE=image/jpeg:https://auxpunks.uber.space/wp-content/uploads/2026/01/signal-2026-01-06-152134_007.jpg
END:VEVENT
BEGIN:VEVENT
DTSTART;TZID=Europe/Berlin:20260121T183000
DTEND;TZID=Europe/Berlin:20260121T210000
DTSTAMP:20260421T003506
CREATED:20260109T084227Z
LAST-MODIFIED:20260109T084228Z
UID:10016037-1769020200-1769029200@auxpunks.uber.space
SUMMARY:Podiumsdiskussion zur Kommunalwahl in der Karo10
DESCRIPTION:Vor den Kommunalwahlen am 08.03. wollen wir mit Stadtratskandidat*innen verschiedener Parteien darüber sprechen\, wie sie Klimagerechtigkeit in Augsburg umsetzen wollen. Welche Pläne und Ideen würden die Politiker*innen beispielsweise für die Mobilitätswende\, die Wärmewende und gegen den Rechtsruck mit in den Stadtrat bringen?\nDabei ist auch Raum für Eure Fragen an die Kandidat*innen.\nAls Teilnehmende für das Podium sind Vertreter*innen von CSU\, Grünen\, SPD und Linken angefragt.
URL:https://auxpunks.uber.space/event/podiumsdiskussion-zur-kommunalwahl-in-der-karo10/
LOCATION:Karo10\, Karolinenstr. 10\, Augsburg\, 86150
CATEGORIES:Klimagerechtigkeit
ATTACH;FMTTYPE=image/jpeg:https://auxpunks.uber.space/wp-content/uploads/2026/01/Mittwoch0121.jpeg
END:VEVENT
BEGIN:VEVENT
DTSTART;TZID=Europe/Berlin:20251219T200000
DTEND;TZID=Europe/Berlin:20251219T233000
DTSTAMP:20260421T003506
CREATED:20251209T160211Z
LAST-MODIFIED:20251209T160212Z
UID:10015986-1766174400-1766187000@auxpunks.uber.space
SUMMARY:Bring your own music! Party
DESCRIPTION:Kommt vorbei zu unserer Kopfhörerparty\, bei der alle mit eigenen Kopfhörern die Musik hören\, die ihnen gefällt. Dabei kann getanzt (alleine oder gemeinsam) oder sich unterhalten werden. Die Party soll sensorisch „leicht“ und barrierearm sein. Bitte Kopfhörer und Musikplayer/Handy mitbringen! \nCome to our headphone party\, where everyone listens to the music they like with their own headphones. You can dance (alone or together) or chat. The party is designed to be sensorically “light” and accessible.\nPlease bring your headphones and music player/cell phone!
URL:https://auxpunks.uber.space/event/bring-your-own-music-party/
LOCATION:Karo10\, Karolinenstr. 10\, Augsburg\, 86150
CATEGORIES:Konzerte & Feiern
END:VEVENT
END:VCALENDAR