BEGIN:VCALENDAR
VERSION:2.0
PRODID:-//auxpunks - ECPv6.15.11//NONSGML v1.0//EN
CALSCALE:GREGORIAN
METHOD:PUBLISH
X-ORIGINAL-URL:https://auxpunks.uber.space
X-WR-CALDESC:Veranstaltungen für auxpunks
REFRESH-INTERVAL;VALUE=DURATION:PT1H
X-Robots-Tag:noindex
X-PUBLISHED-TTL:PT1H
BEGIN:VTIMEZONE
TZID:Europe/Berlin
BEGIN:DAYLIGHT
TZOFFSETFROM:+0100
TZOFFSETTO:+0200
TZNAME:CEST
DTSTART:20230326T010000
END:DAYLIGHT
BEGIN:STANDARD
TZOFFSETFROM:+0200
TZOFFSETTO:+0100
TZNAME:CET
DTSTART:20231029T010000
END:STANDARD
BEGIN:DAYLIGHT
TZOFFSETFROM:+0100
TZOFFSETTO:+0200
TZNAME:CEST
DTSTART:20240331T010000
END:DAYLIGHT
BEGIN:STANDARD
TZOFFSETFROM:+0200
TZOFFSETTO:+0100
TZNAME:CET
DTSTART:20241027T010000
END:STANDARD
BEGIN:DAYLIGHT
TZOFFSETFROM:+0100
TZOFFSETTO:+0200
TZNAME:CEST
DTSTART:20250330T010000
END:DAYLIGHT
BEGIN:STANDARD
TZOFFSETFROM:+0200
TZOFFSETTO:+0100
TZNAME:CET
DTSTART:20251026T010000
END:STANDARD
END:VTIMEZONE
BEGIN:VEVENT
DTSTART;TZID=Europe/Berlin:20240615T150000
DTEND;TZID=Europe/Berlin:20240615T180000
DTSTAMP:20260420T231359
CREATED:20240602T145023Z
LAST-MODIFIED:20240602T145029Z
UID:10014121-1718463600-1718474400@auxpunks.uber.space
SUMMARY:Dyke March
DESCRIPTION:In vielen Städten und Ländern haben lesbische Protestmärsche langjährige Tradition. Bereits 1981 fand die erste Demonstration für lesbische Sichtbarkeit in Toronto statt. Vor knapp 30 Jahren formierte sich dann in Washington\, erstmalig unter dem Namen „Dyke March“\, ein Protest mit etwa 20.000 Teilnehmer*innen\, um für die Rechte von Lesben und queeren Personen laut zu werden. Seitdem breitet sich die Bewegung international aus. Das häufig als Schimpfwort genutzte Wort „Dyke“ (Lesbe) wird dabei selbstbewusst von der lesbischen Gemeinschaft zurückerobert.
URL:https://auxpunks.uber.space/event/dyke-march/
LOCATION:Königsplatz (Augsburg)
CATEGORIES:Demos & Aktionen
END:VEVENT
BEGIN:VEVENT
DTSTART;TZID=Europe/Berlin:20240608T000000
DTEND;TZID=Europe/Berlin:20240608T235959
DTSTAMP:20260420T231359
CREATED:20240602T144931Z
LAST-MODIFIED:20240602T144937Z
UID:10014118-1717804800-1717891199@auxpunks.uber.space
SUMMARY:CSD Augsburg
DESCRIPTION:10:30 Aufstellung für die Parade am Königsplatz\n\n12:00 Parade durch die Innenstadt\n\n15:00 Ankunft beim Straßenfest auf dem Rathausplatz
URL:https://auxpunks.uber.space/event/csd-augsburg/
LOCATION:Königsplatz (Augsburg)
CATEGORIES:Demos & Aktionen
END:VEVENT
END:VCALENDAR