BEGIN:VCALENDAR
VERSION:2.0
PRODID:-//auxpunks - ECPv6.15.11//NONSGML v1.0//EN
CALSCALE:GREGORIAN
METHOD:PUBLISH
X-ORIGINAL-URL:https://auxpunks.uber.space
X-WR-CALDESC:Veranstaltungen für auxpunks
REFRESH-INTERVAL;VALUE=DURATION:PT1H
X-Robots-Tag:noindex
X-PUBLISHED-TTL:PT1H
BEGIN:VTIMEZONE
TZID:Europe/Berlin
BEGIN:DAYLIGHT
TZOFFSETFROM:+0100
TZOFFSETTO:+0200
TZNAME:CEST
DTSTART:20230326T010000
END:DAYLIGHT
BEGIN:STANDARD
TZOFFSETFROM:+0200
TZOFFSETTO:+0100
TZNAME:CET
DTSTART:20231029T010000
END:STANDARD
BEGIN:DAYLIGHT
TZOFFSETFROM:+0100
TZOFFSETTO:+0200
TZNAME:CEST
DTSTART:20240331T010000
END:DAYLIGHT
BEGIN:STANDARD
TZOFFSETFROM:+0200
TZOFFSETTO:+0100
TZNAME:CET
DTSTART:20241027T010000
END:STANDARD
BEGIN:DAYLIGHT
TZOFFSETFROM:+0100
TZOFFSETTO:+0200
TZNAME:CEST
DTSTART:20250330T010000
END:DAYLIGHT
BEGIN:STANDARD
TZOFFSETFROM:+0200
TZOFFSETTO:+0100
TZNAME:CET
DTSTART:20251026T010000
END:STANDARD
BEGIN:DAYLIGHT
TZOFFSETFROM:+0100
TZOFFSETTO:+0200
TZNAME:CEST
DTSTART:20260329T010000
END:DAYLIGHT
BEGIN:STANDARD
TZOFFSETFROM:+0200
TZOFFSETTO:+0100
TZNAME:CET
DTSTART:20261025T010000
END:STANDARD
END:VTIMEZONE
BEGIN:VEVENT
DTSTART;TZID=Europe/Berlin:20251116T130000
DTEND;TZID=Europe/Berlin:20251116T153000
DTSTAMP:20260421T020214
CREATED:20251115T120755Z
LAST-MODIFIED:20251115T120756Z
UID:10015973-1763298000-1763307000@auxpunks.uber.space
SUMMARY:Kein Land für Niemand - Filmvorführung mit Gespräch
DESCRIPTION:Die SOS Humanity Freiwilligengruppe lädt erneut zur Filmvorführung ins Liliom ein. \nGezeigt wird „Kein Land für Niemand“ mit anschließender Gesprächsrunde.\n\nDie Nachfrage bei der ersten Filmvorführung war so groß\, dass er nochmal gezeigt wird – was richtig\, richtig toll ist! \n\nFür kommenden Sonntag\, den 16.11\, ist auch nochmal Sarah mit dabei. Sie war die letzten Wochen auf Seenotrettungseinatz auf der Humanity 1 und kann von der aktuellen Lage im zentralen Mittelmeer berichten. \nAuch für alle Fragen zum Thema Seenotrettung und wie man sich engagieren kann steht Sarah und der Rest der Augsburger Freiwilligengruppe zur Verfügung. \n\nLasst uns gemeinsam hinschauen.\n\nWir freuen uns auf euch!! 💛\n\nTickets könnt ihr auf der Liliomseite online kaufen\, per Telefon dort reservieren oder eben vor Ort…\nhttps://www.liliom.de/
URL:https://auxpunks.uber.space/event/kein-land-fuer-niemand-filmvorfuehrung-mit-gespraech/
LOCATION:Liliom Kino Augsburg
CATEGORIES:Vorträge, Filme & Workshops
ATTACH;FMTTYPE=image/jpeg:https://auxpunks.uber.space/wp-content/uploads/2025/11/signal-2025-11-13-13-40-50-900.jpg
END:VEVENT
BEGIN:VEVENT
DTSTART;TZID=Europe/Berlin:20251102T140000
DTEND;TZID=Europe/Berlin:20251102T170000
DTSTAMP:20260421T020214
CREATED:20251012T111307Z
LAST-MODIFIED:20251012T111308Z
UID:10015890-1762092000-1762102800@auxpunks.uber.space
SUMMARY:Kein Land für Niemand - Abschottung eines Einwanderungslandes
DESCRIPTION:Filmvorführung mit anschließendem Gespräch\n\nDeutschland steht an einem historischen Wendepunkt: Erstmals seit 1945 wird im Jahr 2025 ein migrationspolitischer Entschließungsantrag im Bundestag angenommen – mit Unterstützung der AfD\, die vom Verfassungsschutz wegen rechtsextremer Bestrebungen beobachtet wird. Die Erklärung zur Begrenzung der Zuwanderung sieht unter anderem eine vollständige Schließung der deutschen Grenzen vor. Ein Paradigmenwechsel kündigt sich an: weg vom Schutz von Geflüchteten\, hin zu Abschottung und Abschreckung.
URL:https://auxpunks.uber.space/event/kein-land-fuer-niemand-abschottung-eines-einwanderungslandes/
LOCATION:Liliom Kino Augsburg
CATEGORIES:Linke Einführungswochen 2025
ATTACH;FMTTYPE=image/jpeg:https://auxpunks.uber.space/wp-content/uploads/2025/10/signal-2025-10-10-162229_002.jpeg
END:VEVENT
BEGIN:VEVENT
DTSTART;TZID=Europe/Berlin:20241102T130000
DTEND;TZID=Europe/Berlin:20241102T143000
DTSTAMP:20260421T020214
CREATED:20241029T082102Z
LAST-MODIFIED:20241029T082102Z
UID:10014313-1730552400-1730557800@auxpunks.uber.space
SUMMARY:ANTIFA - Der Film
DESCRIPTION:Am 2.11. zeigt das Liliom Kino einmalig den Film:\n\n„ANTIFA – Schulter an Schulter\, wo der Staat versagte“\n\n\nFilmstart: 13 Uhr\n\n\nhttps://www.antifa-film.de/
URL:https://auxpunks.uber.space/event/antifa-der-film/
LOCATION:Liliom Kino Augsburg
CATEGORIES:Highlights,Vorträge, Filme & Workshops
END:VEVENT
END:VCALENDAR