BEGIN:VCALENDAR
VERSION:2.0
PRODID:-//auxpunks - ECPv6.15.11//NONSGML v1.0//EN
CALSCALE:GREGORIAN
METHOD:PUBLISH
X-WR-CALNAME:auxpunks
X-ORIGINAL-URL:https://auxpunks.uber.space
X-WR-CALDESC:Veranstaltungen für auxpunks
REFRESH-INTERVAL;VALUE=DURATION:PT1H
X-Robots-Tag:noindex
X-PUBLISHED-TTL:PT1H
BEGIN:VTIMEZONE
TZID:Europe/Berlin
BEGIN:DAYLIGHT
TZOFFSETFROM:+0100
TZOFFSETTO:+0200
TZNAME:CEST
DTSTART:20230326T010000
END:DAYLIGHT
BEGIN:STANDARD
TZOFFSETFROM:+0200
TZOFFSETTO:+0100
TZNAME:CET
DTSTART:20231029T010000
END:STANDARD
BEGIN:DAYLIGHT
TZOFFSETFROM:+0100
TZOFFSETTO:+0200
TZNAME:CEST
DTSTART:20240331T010000
END:DAYLIGHT
BEGIN:STANDARD
TZOFFSETFROM:+0200
TZOFFSETTO:+0100
TZNAME:CET
DTSTART:20241027T010000
END:STANDARD
BEGIN:DAYLIGHT
TZOFFSETFROM:+0100
TZOFFSETTO:+0200
TZNAME:CEST
DTSTART:20250330T010000
END:DAYLIGHT
BEGIN:STANDARD
TZOFFSETFROM:+0200
TZOFFSETTO:+0100
TZNAME:CET
DTSTART:20251026T010000
END:STANDARD
BEGIN:DAYLIGHT
TZOFFSETFROM:+0100
TZOFFSETTO:+0200
TZNAME:CEST
DTSTART:20260329T010000
END:DAYLIGHT
BEGIN:STANDARD
TZOFFSETFROM:+0200
TZOFFSETTO:+0100
TZNAME:CET
DTSTART:20261025T010000
END:STANDARD
BEGIN:DAYLIGHT
TZOFFSETFROM:+0100
TZOFFSETTO:+0200
TZNAME:CEST
DTSTART:20270328T010000
END:DAYLIGHT
BEGIN:STANDARD
TZOFFSETFROM:+0200
TZOFFSETTO:+0100
TZNAME:CET
DTSTART:20271031T010000
END:STANDARD
END:VTIMEZONE
BEGIN:VEVENT
DTSTART;TZID=Europe/Berlin:20260404T113000
DTEND;TZID=Europe/Berlin:20260404T130000
DTSTAMP:20260420T211642
CREATED:20260402T190918Z
LAST-MODIFIED:20260402T190919Z
UID:10016711-1775302200-1775307600@auxpunks.uber.space
SUMMARY:Ostermarsch 2026
DESCRIPTION:Milliarden für Menschen statt für Waffen \n\n\n\nVor dem Hintergrund globaler Macht- und Verteilungskämpfe nimmt dieMilitarisierung in unserem Land immer weiter Fahrt auf: Militärausgabenoberhalb von einem Prozent des Bruttoinlandsprodukts werden nun als so-genannte „Bereichsausnahme“ von der Schuldenbremse ausgenommen.Damit gibt es keine zeitliche oder finanzielle Grenze mehr für die weitereAufrüstung der Bundeswehr. Die wurde schon in der Vergangenheit kei-neswegs „kaputtgespart“\, wie von vielen Politiker*innen und Medien gernebehauptet wird: Tatsächlich stieg der deutsche Verteidigungshaushalt abervon (umgerechnet) rund 24 Mrd. Euro im Jahr 2000 bereits auf etwa 50Mrd. Euro im Jahr 2020. Nach dem russischen Angriff auf die Ukraine gingdas Geschäft für die Rüstungsindustrie dann richtig los: 2024 lagen dieAusgaben für das Militär schon bei mehr als 90 Mrd. Euro. Und sie sollenweiter steigen: Für 2029 sind laut der Informationsstelle Militarisierungfast 153 Mrd. Euro geplant. \n\n\n\nWeiterlesen: https://augsburger-friedensinitiative.de/Portals/0/Docs/Ostermarsch%202026/Ostermarsch%202026.pdf
URL:https://auxpunks.uber.space/event/ostermarsch-2026/
LOCATION:Moritzplatz\, 86150 Augsburg\, Deutschland
ATTACH;FMTTYPE=image/jpeg:https://auxpunks.uber.space/wp-content/uploads/2026/04/Ostermarsch_2026_Banner.jpg
END:VEVENT
BEGIN:VEVENT
DTSTART;TZID=Europe/Berlin:20240704T180000
DTEND;TZID=Europe/Berlin:20240704T200000
DTSTAMP:20260420T211642
CREATED:20240703T095747Z
LAST-MODIFIED:20240703T133808Z
UID:10014168-1720116000-1720123200@auxpunks.uber.space
SUMMARY:Bildung und Entwicklung
DESCRIPTION:Die Rolle der Bildung bei der Stärkung von Gemeinschaften\, der Förderung vonChancengleichheit und der Schaffung einer nachhaltigen Zukunft.Bildung ist der zukunftsorientierte Motor\, um eine nachhaltige Entwicklung unsererGesellschaften im Zusammenspiel ökologischer\, sozialer und ökonomischer Interessenvoranzubringen. Frieden und Gerechtigkeit sind hierbei zentrale Kriterien\, die für jedenKontext konkreter Umsetzungsformen bedürfen. \nIn dem Vortrag mit Diskussion setzen wiruns mit der Schlüsselrolle von Bildung bei der Stärkung von Gemein-schaften\, der Förderungvon Chancengleichheit und der Schaffung einer nachhaltigen Zukunft auseinander. \nWelche Rolle können Religionen für diesen notwendigen Bewusstseinswandel spielen undwie könnte interreligiöser Dialog nicht nur ein Zusammengehörigkeitsgefühl stärken\,sondern auch zu Synergieeffekten gemeinsamer Kooperationen führen? \nProf. Dr. Elisabeth Naurath wird hierzu Einblicke in Theorie und Praxis geben. \nWie können wir Bildung als Katalysator für eine gerechtere und nachhaltigere Welt nutzen?Nino Nakhutsrishvili wird ihre Einblicke in die Bedeutung von Bildung für nachhaltigeEntwicklung für Menschen im globalen Süden teilen.
URL:https://auxpunks.uber.space/event/bildung-und-entwicklung/
LOCATION:Moritzplatz\, 86150 Augsburg\, Deutschland
CATEGORIES:Klimagerechtigkeit,Vorträge, Filme & Workshops
ORGANIZER;CN="pax christi Augsburg":MAILTO:augsburg@paxchristi.de
END:VEVENT
END:VCALENDAR