BEGIN:VCALENDAR
VERSION:2.0
PRODID:-//auxpunks - ECPv6.15.11//NONSGML v1.0//EN
CALSCALE:GREGORIAN
METHOD:PUBLISH
X-ORIGINAL-URL:https://auxpunks.uber.space
X-WR-CALDESC:Veranstaltungen für auxpunks
REFRESH-INTERVAL;VALUE=DURATION:PT1H
X-Robots-Tag:noindex
X-PUBLISHED-TTL:PT1H
BEGIN:VTIMEZONE
TZID:Europe/Berlin
BEGIN:DAYLIGHT
TZOFFSETFROM:+0100
TZOFFSETTO:+0200
TZNAME:CEST
DTSTART:20230326T010000
END:DAYLIGHT
BEGIN:STANDARD
TZOFFSETFROM:+0200
TZOFFSETTO:+0100
TZNAME:CET
DTSTART:20231029T010000
END:STANDARD
BEGIN:DAYLIGHT
TZOFFSETFROM:+0100
TZOFFSETTO:+0200
TZNAME:CEST
DTSTART:20240331T010000
END:DAYLIGHT
BEGIN:STANDARD
TZOFFSETFROM:+0200
TZOFFSETTO:+0100
TZNAME:CET
DTSTART:20241027T010000
END:STANDARD
BEGIN:DAYLIGHT
TZOFFSETFROM:+0100
TZOFFSETTO:+0200
TZNAME:CEST
DTSTART:20250330T010000
END:DAYLIGHT
BEGIN:STANDARD
TZOFFSETFROM:+0200
TZOFFSETTO:+0100
TZNAME:CET
DTSTART:20251026T010000
END:STANDARD
BEGIN:DAYLIGHT
TZOFFSETFROM:+0100
TZOFFSETTO:+0200
TZNAME:CEST
DTSTART:20260329T010000
END:DAYLIGHT
BEGIN:STANDARD
TZOFFSETFROM:+0200
TZOFFSETTO:+0100
TZNAME:CET
DTSTART:20261025T010000
END:STANDARD
BEGIN:DAYLIGHT
TZOFFSETFROM:+0100
TZOFFSETTO:+0200
TZNAME:CEST
DTSTART:20270328T010000
END:DAYLIGHT
BEGIN:STANDARD
TZOFFSETFROM:+0200
TZOFFSETTO:+0100
TZNAME:CET
DTSTART:20271031T010000
END:STANDARD
END:VTIMEZONE
BEGIN:VEVENT
DTSTART;TZID=Europe/Berlin:20260308T190000
DTEND;TZID=Europe/Berlin:20260309T000000
DTSTAMP:20260420T215209
CREATED:20260303T085318Z
LAST-MODIFIED:20260303T085319Z
UID:10016361-1772996400-1773014400@auxpunks.uber.space
SUMMARY:Wahlparty der Linken Augsburg
DESCRIPTION:Liebe Genoss*innen\,  liebe Mitstreiter*innen\, \n\nmit den Kommunalwahlen in Bayern am 08.03.2026 wollen wir als Linke in zahlreiche Gemeinde- und Stadträte einziehen und damit gegen hohe Mieten und für ein bezahlbares Leben kämpfen. In Augsburg ist es unser erklärtes Ziel\, in Fraktionsstärke ins Rathaus einzuziehen und zusätzlich im Kreistag Augsburg-Land vertreten zu sein. Kein Bauausschuss soll mehr stattfinden können\, ohne dass die Themen Miete und Bezahlbarkeit auf der Tagesordnung stehen. Den Wiedereinzug in den Stadtrat und Kreistag möchten wir gemeinsam mit euch feiern und laden recht herzlich zu unserer Wahlparty ein.\nHier möchten wir unsere Kandidierenden nach Bekanntgabe des Wahlergebnisses in Empfang nehmen und gemeinsam bei Kaltgetränken und mit Liedern der Arbeiter*innenklasse feiern. Wir freuen uns auf zahlreiches Kommen! Bei organisatorischen Fragen könnt ihr euch gerne an Lukas Küfner  und Maxi Uhlig wenden.
URL:https://auxpunks.uber.space/event/wahlparty-der-linken-augsburg/
LOCATION:Neruda Kulturcafe
CATEGORIES:Highlights,Konzerte & Feiern
ATTACH;FMTTYPE=image/png:https://auxpunks.uber.space/wp-content/uploads/2026/03/Einladung-Wahlparty_KV-Augsburg_08.03.2026.png
ORGANIZER;CN="Die Linke Augsburg":MAILTO:kontakt@dielinke-augsburg.de
END:VEVENT
BEGIN:VEVENT
DTSTART;TZID=Europe/Berlin:20251011T210000
DTEND;TZID=Europe/Berlin:20251011T230000
DTSTAMP:20260420T215209
CREATED:20250928T191654Z
LAST-MODIFIED:20250928T191655Z
UID:10015809-1760216400-1760223600@auxpunks.uber.space
SUMMARY:WATZ (Brass\, Frankfurt a.M.) - Live Konzert
DESCRIPTION:WATZ sind eine Band aus aktuell 9 Menschen\, jeder Menge Blech- und Holzblasinstrumenten und Drums. Zwischen Melodien und Gebratze\, mal laut\, mal leiser\, ein wilder Kaos-Mix aus Brass\, Punk\, Electro\, Pop\, Disko quer durch die Galaxie. Let’s watz!
URL:https://auxpunks.uber.space/event/watz-brass-frankfurt-a-m-live-konzert/
LOCATION:Neruda Kulturcafe
CATEGORIES:Konzerte & Feiern
ATTACH;FMTTYPE=image/jpeg:https://auxpunks.uber.space/wp-content/uploads/2025/09/photo_2025-09-24_15-15-19.jpg
END:VEVENT
BEGIN:VEVENT
DTSTART;TZID=Europe/Berlin:20251002T200000
DTEND;TZID=Europe/Berlin:20251002T233000
DTSTAMP:20260420T215209
CREATED:20250928T191550Z
LAST-MODIFIED:20250928T191551Z
UID:10015810-1759435200-1759447800@auxpunks.uber.space
SUMMARY:James Bar Bowen - MX Plasticpunk - Wollstiefel
DESCRIPTION:Am 2. Oktober gibt’s im Neruda wieder mal Akustikpunk und Folkpunk auf die Ohren! Wollstiefel\, Jamesbarbowen und Mx Plasticpunk geben sich die Ehre und die Klinke in die Hand — ein Abend voller schneller und nicht ganz so schneller Songs und Geschichten über Kapitalismus\, Solidarität und Parkplätze.
URL:https://auxpunks.uber.space/event/james-bar-bowen-mx-plasticpunk-wollstiefel/
LOCATION:Neruda Kulturcafe
CATEGORIES:Konzerte & Feiern
ATTACH;FMTTYPE=image/jpeg:https://auxpunks.uber.space/wp-content/uploads/2025/09/Neruda251002.jpeg
END:VEVENT
BEGIN:VEVENT
DTSTART;TZID=Europe/Berlin:20250513T190000
DTEND;TZID=Europe/Berlin:20250513T220000
DTSTAMP:20260420T215209
CREATED:20250413T164406Z
LAST-MODIFIED:20250413T164406Z
UID:10014545-1747162800-1747173600@auxpunks.uber.space
SUMMARY:Solarpunk Schreibtreff
DESCRIPTION:Wir schreiben Solarpunk\n\n– philosophieren\, träumen\n– Neue Fiktion schaffen\n– jeden 2. Dienstag im Monat\n\n\nSolarpunk Texte unter: https://paper.wf/solarpunxaux/
URL:https://auxpunks.uber.space/event/solarpunk-schreibtreff/
LOCATION:Neruda Kulturcafe
CATEGORIES:Klimagerechtigkeit
END:VEVENT
BEGIN:VEVENT
DTSTART;TZID=Europe/Berlin:20250408T190000
DTEND;TZID=Europe/Berlin:20250408T220000
DTSTAMP:20260420T215209
CREATED:20250406T014547Z
LAST-MODIFIED:20250406T014548Z
UID:10014532-1744138800-1744149600@auxpunks.uber.space
SUMMARY:Solarpunk kreativer Schreibtreff/Workshop
DESCRIPTION:Wir schreiben Solarpunk\n\n– philosophieren\, träumen\n– Neue Fiktion schaffen\n– Dienstag 8.4.25 19-22 Uhr&jeden 2. Dienstag im Monat\n\nAugsburg – Neruda\n\nSolarpunk Texte unter: https://paper.wf/solarpunxaux/
URL:https://auxpunks.uber.space/event/solarpunk-kreativer-schreibtreff-workshop-4/
LOCATION:Neruda Kulturcafe
CATEGORIES:Klimagerechtigkeit,Plena, Treffen & Lesekreise
END:VEVENT
BEGIN:VEVENT
DTSTART;TZID=Europe/Berlin:20250311T190000
DTEND;TZID=Europe/Berlin:20250311T220000
DTSTAMP:20260420T215209
CREATED:20250306T142804Z
LAST-MODIFIED:20250306T142804Z
UID:10014489-1741719600-1741730400@auxpunks.uber.space
SUMMARY:Solarpunk kreativer Schreibtreff/Workshop
DESCRIPTION:Wir verwenden Kreatives Schreiben um positive Zukunftsentwürfe zu schaffen\, in denen der Klimawandel gesellschaftlich überwunden ist.\n\nTexte findet man hier: https://paper.wf/solarpunxaux/
URL:https://auxpunks.uber.space/event/solarpunk-kreativer-schreibtreff-workshop-3/
LOCATION:Neruda Kulturcafe
CATEGORIES:Vorträge, Filme & Workshops
END:VEVENT
BEGIN:VEVENT
DTSTART;TZID=Europe/Berlin:20250211T190000
DTEND;TZID=Europe/Berlin:20250211T223000
DTSTAMP:20260420T215209
CREATED:20250126T134312Z
LAST-MODIFIED:20250126T134312Z
UID:10014436-1739300400-1739313000@auxpunks.uber.space
SUMMARY:Solarpunk kreativer Schreibtreff/Workshop
DESCRIPTION:Solarpunk ist ein Science Fiction Genre in einer utopischen Zukunft\, in der der Klimawandel von der Gesellschaft überwunden wurde. Wir lassen das gegenwärtige klein\, klein hinter uns und lassen uns von einer besseren Zukunft faszinieren.\n\nBisher entstandene Texte finden sich hier:\n\nhttps://paper.wf/solarpunxaux/
URL:https://auxpunks.uber.space/event/solarpunk-kreativer-schreibtreff-workshop-2/
LOCATION:Neruda Kulturcafe
CATEGORIES:Klimagerechtigkeit,Vorträge, Filme & Workshops
END:VEVENT
BEGIN:VEVENT
DTSTART;TZID=Europe/Berlin:20250114T190000
DTEND;TZID=Europe/Berlin:20250114T220000
DTSTAMP:20260420T215209
CREATED:20241219T090215Z
LAST-MODIFIED:20241219T090216Z
UID:10014395-1736881200-1736892000@auxpunks.uber.space
SUMMARY:Solarpunk kreativer Schreibtreff/Workshop
DESCRIPTION:Solarpunk ist ein Science Fiction Genre in einer utopischen Zukunft\, in der der Klimawandel von der Gesellschaft überwunden wurde. Wir lassen das gegenwärtige klein\, klein hinter uns und lassen uns von einer besseren Zukunft faszinieren.\n\nBisher entstandene Texte finden sich hier:\n\nhttps://paper.wf/solarpunxaux/
URL:https://auxpunks.uber.space/event/solarpunk-kreativer-schreibtreff-workshop/
LOCATION:Neruda Kulturcafe
CATEGORIES:Vorträge, Filme & Workshops
END:VEVENT
BEGIN:VEVENT
DTSTART;TZID=Europe/Berlin:20241210T190000
DTEND;TZID=Europe/Berlin:20241210T220000
DTSTAMP:20260420T215209
CREATED:20241205T210456Z
LAST-MODIFIED:20241205T210456Z
UID:10014380-1733857200-1733868000@auxpunks.uber.space
SUMMARY:Solarpunk kreativer Schreibtreff
DESCRIPTION:Solarpunk ist ein Science Fiction Genre\, das sich mit einer Zukunft beschäftigt\, in der der Klimawandel überwunden ist. Daraus ergeben sich spannende\, hoffnungsvolle Geschichten\, die eigene Charakteristiken mit sich bringen. paper.wf/solarpunxaux/ Wir erkunden das Genre mit Schreibübungen\, Philosophieren und Träumen. kommt gern vorbei!!
URL:https://auxpunks.uber.space/event/solarpunk-kreativer-schreibtreff-7/
LOCATION:Neruda Kulturcafe
CATEGORIES:Klimagerechtigkeit,Vorträge, Filme & Workshops
END:VEVENT
BEGIN:VEVENT
DTSTART;TZID=Europe/Berlin:20241112T190000
DTEND;TZID=Europe/Berlin:20241112T220000
DTSTAMP:20260420T215209
CREATED:20241030T084609Z
LAST-MODIFIED:20241030T084610Z
UID:10014288-1731438000-1731448800@auxpunks.uber.space
SUMMARY:Solarpunk kreativer Schreibtreff
DESCRIPTION:Solarpunk ist ein Science Fiction Genre\, das sich mit einer Zukunft beschäftigt\, in der der Klimawandel überwunden ist. Daraus ergeben sich spannende\, hoffnungsvolle Geschichten\, die eigene Charakteristiken mit sich bringen. paper.wf/solarpunxaux/ Wir erkunden das Genre mit Schreibübungen\, Philosophieren und Träumen. kommt gern vorbei!!
URL:https://auxpunks.uber.space/event/solarpunk-kreativer-schreibtreff-6/
LOCATION:Neruda Kulturcafe
CATEGORIES:Plena, Treffen & Lesekreise
END:VEVENT
BEGIN:VEVENT
DTSTART;TZID=Europe/Berlin:20241008T190000
DTEND;TZID=Europe/Berlin:20241008T220000
DTSTAMP:20260420T215209
CREATED:20240922T133403Z
LAST-MODIFIED:20240922T133403Z
UID:10014253-1728414000-1728424800@auxpunks.uber.space
SUMMARY:Solarpunk kreativer Schreibtreff
DESCRIPTION:Solarpunk ist ein Science Fiction Genre\, das sich mit einer Zukunft beschäftigt\, in der der Klimawandel überwunden ist. Daraus ergeben sich spannende\, hoffnungsvolle Geschichten\, die eigene Charakteristiken mit sich bringen.\npaper.wf/solarpunxaux/\n\nWir erkunden das Genre mit Schreibübungen\, Philosophieren und Träumen.\n\nkommt gern vorbei!!
URL:https://auxpunks.uber.space/event/solarpunk-kreativer-schreibtreff-5/
LOCATION:Neruda Kulturcafe
CATEGORIES:Vorträge, Filme & Workshops
END:VEVENT
BEGIN:VEVENT
DTSTART;TZID=Europe/Berlin:20240910T190000
DTEND;TZID=Europe/Berlin:20240910T220000
DTSTAMP:20260420T215209
CREATED:20240907T092410Z
LAST-MODIFIED:20240907T092410Z
UID:10014241-1725994800-1726005600@auxpunks.uber.space
SUMMARY:Solarpunk kreativer Schreibtreff
DESCRIPTION:Solarpunk ist ein Science Fiction Genre\, das sich mit einer Zukunft beschäftigt\, in der der Klimawandel überwunden ist. Daraus ergeben sich spannende\, hoffnungsvolle Geschichten\, die eigene Charakteristiken mit sich bringen.\npaper.wf/solarpunxaux/\n\nWir erkunden das Genre mit Schreibübungen\, Philosophieren und Träumen.\n\nkommt gern vorbei!!
URL:https://auxpunks.uber.space/event/solarpunk-kreativer-schreibtreff-4/
LOCATION:Neruda Kulturcafe
CATEGORIES:Vorträge, Filme & Workshops
END:VEVENT
BEGIN:VEVENT
DTSTART;TZID=Europe/Berlin:20240709T190000
DTEND;TZID=Europe/Berlin:20240709T220000
DTSTAMP:20260420T215209
CREATED:20240626T115257Z
LAST-MODIFIED:20240626T115258Z
UID:10014157-1720551600-1720562400@auxpunks.uber.space
SUMMARY:Solarpunk kreativer Schreibtreff
DESCRIPTION:Solarpunk ist ein Science Fiction Genre\, das sich mit einer Zukunft beschäftigt\, in der der Klimawandel überwunden ist. Daraus ergeben sich spannende\, hoffnungsvolle Geschichten\, die eigene Charakteristiken mit sich bringen. Wir erkunden das Genre mit Schreibübungen\, Philosophieren und Träumen. kommt gern vorbei!!
URL:https://auxpunks.uber.space/event/solarpunk-kreativer-schreibtreff-2/
LOCATION:Neruda Kulturcafe
CATEGORIES:Plena, Treffen & Lesekreise
END:VEVENT
BEGIN:VEVENT
DTSTART;TZID=Europe/Berlin:20240611T190000
DTEND;TZID=Europe/Berlin:20240611T220000
DTSTAMP:20260420T215209
CREATED:20240607T160039Z
LAST-MODIFIED:20240607T160040Z
UID:10014126-1718132400-1718143200@auxpunks.uber.space
SUMMARY:Solarpunk kreativer Schreibtreff
DESCRIPTION:Solarpunk ist ein Science Fiction Genre\, das sich mit einer Zukunft beschäftigt\, in der der Klimawandel überwunden ist. Daraus ergeben sich spannende\, hoffnungsvolle Geschichten\, die eigene Charakteristiken mit sich bringen.\n\nWir erkunden das Genre mit Schreibübungen\, Philosophieren und Träumen.\n\nkommt gern vorbei!!
URL:https://auxpunks.uber.space/event/solarpunk-kreativer-schreibtreff/
LOCATION:Neruda Kulturcafe
CATEGORIES:Vorträge, Filme & Workshops
END:VEVENT
END:VCALENDAR