BEGIN:VCALENDAR
VERSION:2.0
PRODID:-//auxpunks - ECPv6.15.11//NONSGML v1.0//EN
CALSCALE:GREGORIAN
METHOD:PUBLISH
X-WR-CALNAME:auxpunks
X-ORIGINAL-URL:https://auxpunks.uber.space
X-WR-CALDESC:Veranstaltungen für auxpunks
REFRESH-INTERVAL;VALUE=DURATION:PT1H
X-Robots-Tag:noindex
X-PUBLISHED-TTL:PT1H
BEGIN:VTIMEZONE
TZID:Europe/Berlin
BEGIN:DAYLIGHT
TZOFFSETFROM:+0100
TZOFFSETTO:+0200
TZNAME:CEST
DTSTART:20230326T010000
END:DAYLIGHT
BEGIN:STANDARD
TZOFFSETFROM:+0200
TZOFFSETTO:+0100
TZNAME:CET
DTSTART:20231029T010000
END:STANDARD
BEGIN:DAYLIGHT
TZOFFSETFROM:+0100
TZOFFSETTO:+0200
TZNAME:CEST
DTSTART:20240331T010000
END:DAYLIGHT
BEGIN:STANDARD
TZOFFSETFROM:+0200
TZOFFSETTO:+0100
TZNAME:CET
DTSTART:20241027T010000
END:STANDARD
BEGIN:DAYLIGHT
TZOFFSETFROM:+0100
TZOFFSETTO:+0200
TZNAME:CEST
DTSTART:20250330T010000
END:DAYLIGHT
BEGIN:STANDARD
TZOFFSETFROM:+0200
TZOFFSETTO:+0100
TZNAME:CET
DTSTART:20251026T010000
END:STANDARD
END:VTIMEZONE
BEGIN:VEVENT
DTSTART;TZID=Europe/Berlin:20241008T190000
DTEND;TZID=Europe/Berlin:20241008T220000
DTSTAMP:20260420T231339
CREATED:20240922T133403Z
LAST-MODIFIED:20240922T133403Z
UID:10014253-1728414000-1728424800@auxpunks.uber.space
SUMMARY:Solarpunk kreativer Schreibtreff
DESCRIPTION:Solarpunk ist ein Science Fiction Genre\, das sich mit einer Zukunft beschäftigt\, in der der Klimawandel überwunden ist. Daraus ergeben sich spannende\, hoffnungsvolle Geschichten\, die eigene Charakteristiken mit sich bringen.\npaper.wf/solarpunxaux/\n\nWir erkunden das Genre mit Schreibübungen\, Philosophieren und Träumen.\n\nkommt gern vorbei!!
URL:https://auxpunks.uber.space/event/solarpunk-kreativer-schreibtreff-5/
LOCATION:Neruda Kulturcafe
CATEGORIES:Vorträge, Filme & Workshops
END:VEVENT
BEGIN:VEVENT
DTSTART;TZID=Europe/Berlin:20240910T190000
DTEND;TZID=Europe/Berlin:20240910T220000
DTSTAMP:20260420T231339
CREATED:20240907T092410Z
LAST-MODIFIED:20240907T092410Z
UID:10014241-1725994800-1726005600@auxpunks.uber.space
SUMMARY:Solarpunk kreativer Schreibtreff
DESCRIPTION:Solarpunk ist ein Science Fiction Genre\, das sich mit einer Zukunft beschäftigt\, in der der Klimawandel überwunden ist. Daraus ergeben sich spannende\, hoffnungsvolle Geschichten\, die eigene Charakteristiken mit sich bringen.\npaper.wf/solarpunxaux/\n\nWir erkunden das Genre mit Schreibübungen\, Philosophieren und Träumen.\n\nkommt gern vorbei!!
URL:https://auxpunks.uber.space/event/solarpunk-kreativer-schreibtreff-4/
LOCATION:Neruda Kulturcafe
CATEGORIES:Vorträge, Filme & Workshops
END:VEVENT
BEGIN:VEVENT
DTSTART;TZID=Europe/Berlin:20240709T190000
DTEND;TZID=Europe/Berlin:20240709T220000
DTSTAMP:20260420T231339
CREATED:20240626T115257Z
LAST-MODIFIED:20240626T115258Z
UID:10014157-1720551600-1720562400@auxpunks.uber.space
SUMMARY:Solarpunk kreativer Schreibtreff
DESCRIPTION:Solarpunk ist ein Science Fiction Genre\, das sich mit einer Zukunft beschäftigt\, in der der Klimawandel überwunden ist. Daraus ergeben sich spannende\, hoffnungsvolle Geschichten\, die eigene Charakteristiken mit sich bringen. Wir erkunden das Genre mit Schreibübungen\, Philosophieren und Träumen. kommt gern vorbei!!
URL:https://auxpunks.uber.space/event/solarpunk-kreativer-schreibtreff-2/
LOCATION:Neruda Kulturcafe
CATEGORIES:Plena, Treffen & Lesekreise
END:VEVENT
BEGIN:VEVENT
DTSTART;TZID=Europe/Berlin:20240611T190000
DTEND;TZID=Europe/Berlin:20240611T220000
DTSTAMP:20260420T231339
CREATED:20240607T160039Z
LAST-MODIFIED:20240607T160040Z
UID:10014126-1718132400-1718143200@auxpunks.uber.space
SUMMARY:Solarpunk kreativer Schreibtreff
DESCRIPTION:Solarpunk ist ein Science Fiction Genre\, das sich mit einer Zukunft beschäftigt\, in der der Klimawandel überwunden ist. Daraus ergeben sich spannende\, hoffnungsvolle Geschichten\, die eigene Charakteristiken mit sich bringen.\n\nWir erkunden das Genre mit Schreibübungen\, Philosophieren und Träumen.\n\nkommt gern vorbei!!
URL:https://auxpunks.uber.space/event/solarpunk-kreativer-schreibtreff/
LOCATION:Neruda Kulturcafe
CATEGORIES:Vorträge, Filme & Workshops
END:VEVENT
END:VCALENDAR