BEGIN:VCALENDAR
VERSION:2.0
PRODID:-//auxpunks - ECPv6.15.11//NONSGML v1.0//EN
CALSCALE:GREGORIAN
METHOD:PUBLISH
X-ORIGINAL-URL:https://auxpunks.uber.space
X-WR-CALDESC:Veranstaltungen für auxpunks
REFRESH-INTERVAL;VALUE=DURATION:PT1H
X-Robots-Tag:noindex
X-PUBLISHED-TTL:PT1H
BEGIN:VTIMEZONE
TZID:Europe/Berlin
BEGIN:DAYLIGHT
TZOFFSETFROM:+0100
TZOFFSETTO:+0200
TZNAME:CEST
DTSTART:20230326T010000
END:DAYLIGHT
BEGIN:STANDARD
TZOFFSETFROM:+0200
TZOFFSETTO:+0100
TZNAME:CET
DTSTART:20231029T010000
END:STANDARD
BEGIN:DAYLIGHT
TZOFFSETFROM:+0100
TZOFFSETTO:+0200
TZNAME:CEST
DTSTART:20240331T010000
END:DAYLIGHT
BEGIN:STANDARD
TZOFFSETFROM:+0200
TZOFFSETTO:+0100
TZNAME:CET
DTSTART:20241027T010000
END:STANDARD
BEGIN:DAYLIGHT
TZOFFSETFROM:+0100
TZOFFSETTO:+0200
TZNAME:CEST
DTSTART:20250330T010000
END:DAYLIGHT
BEGIN:STANDARD
TZOFFSETFROM:+0200
TZOFFSETTO:+0100
TZNAME:CET
DTSTART:20251026T010000
END:STANDARD
END:VTIMEZONE
BEGIN:VEVENT
DTSTART;TZID=Europe/Berlin:20241211T190000
DTEND;TZID=Europe/Berlin:20241211T220000
DTSTAMP:20260420T154615
CREATED:20241205T210504Z
LAST-MODIFIED:20241205T210506Z
UID:10014381-1733943600-1733954400@auxpunks.uber.space
SUMMARY:Bits und Bäume Monatstreffen
DESCRIPTION:Nächsten Mittwoch (am 11.12.) ist es wieder so weit. Bits und Bäume Augsburg trifft sich zum monatstreffen. Diesesmal planen wir eine Vortragsrunde in Zusammenarbeit mit der FH Augsburg.\n\n Im @OpenLabAugsburg Augsburg\nBäckergasse 32 ab 19 Uhr\n\nsowie jeden zweiten Mittwoch monatlich
URL:https://auxpunks.uber.space/event/bits-und-baeume-monatstreffen-6/
LOCATION:OpenLab Augsburg
CATEGORIES:Klimagerechtigkeit,Plena, Treffen & Lesekreise
END:VEVENT
BEGIN:VEVENT
DTSTART;TZID=Europe/Berlin:20241116T160000
DTEND;TZID=Europe/Berlin:20241116T235900
DTSTAMP:20260420T154615
CREATED:20241023T195927Z
LAST-MODIFIED:20241023T195927Z
UID:10014295-1731772800-1731801540@auxpunks.uber.space
SUMMARY:NerdNight 19 – Right to repair or is it right to repair?
DESCRIPTION:Die NerdNight 19 steht unter dem Motto “Right to repair or is it right to repair?”. Anhand des ersten Vortrags des Abends wollen wir uns darüber austauschen\, wie wir uns (theoretisch) losgelöst von rechtlichen\, moralischen und politischen Aspekten als ambitionierte Hacker in die Lage versetzen können sämtliche Reparaturen an einem Fahrzeug selbst durchzuführen. \n\nIn weiteren Vorträgen\, Lightning Talks und spontanen Gesprächsrunden möchten wir uns mitunter über Hardware hacking via Bluetooth austauschen und auch eine Einführung zu Elektromotoren und Steppermotoren geben\, \n\nDes Weiteren steht eine Lesung von Leena Simon aus Ihrem Buch „Digitale Mündigkeit“ auf dem Programm.\n\nDas Programm und alle weiteren wichtigen Infos findet Ihr auf der Veranstaltungswebseite https://wiki.openlab-augsburg.de/Nerdnight%2019
URL:https://auxpunks.uber.space/event/nerdnight-19-right-to-repair-or-is-it-right-to-repair/
LOCATION:OpenLab Augsburg
CATEGORIES:Konzerte & Feiern,Vorträge, Filme & Workshops
ORGANIZER;CN="OpenLab Augsburg e.V.":MAILTO:kontakt@openlab-augsburg.de
END:VEVENT
BEGIN:VEVENT
DTSTART;TZID=Europe/Berlin:20241113T190000
DTEND;TZID=Europe/Berlin:20241113T220000
DTSTAMP:20260420T154615
CREATED:20241030T084621Z
LAST-MODIFIED:20241030T084622Z
UID:10014286-1731524400-1731535200@auxpunks.uber.space
SUMMARY:Bits und Bäume Augsburg Was ist "Bits und Bäume" & Was machen wir?
DESCRIPTION:Bits und Bäume werden vorgestellt mit Themen von reparierbarer Technik über Offene Software bis hin zu Ideen um einem Umgang mit Computern der einer nachhaltigen Gesellschaft hilft.\nAußerdem stellt sich die Lokalgruppe Augsburg mit Themen von Nachhaltiger digitaler Kommunikation bis Solarpunk vor.
URL:https://auxpunks.uber.space/event/bits-und-baeume-augsburg-was-ist-bits-und-baeume-was-machen-wir/
LOCATION:OpenLab Augsburg
CATEGORIES:Klimagerechtigkeit
END:VEVENT
BEGIN:VEVENT
DTSTART;TZID=Europe/Berlin:20241030T190000
DTEND;TZID=Europe/Berlin:20241030T210000
DTSTAMP:20260420T154615
CREATED:20241024T135625Z
LAST-MODIFIED:20241024T135625Z
UID:10014296-1730314800-1730322000@auxpunks.uber.space
SUMMARY:CryptoParty Augsburg
DESCRIPTION:asswörter sind das Rückgrat zur Sicherung von persönlichen Informationen und Online-Accounts. Zahlreiche Vorfälle zeigen\, dass unsichere Passwörter weit verbreitet sind. Hier wollen wir Abhilfe schaffen\, indem wir klären: Was macht Passwörter sicher? Wie kann man sich sicher Passwörter trotzdem merken? Wieso sollte man verschiedene Passwörter benutzen? Welche Programme können bei der Verwaltung helfen? Was hat es mit der neuen Zwei-Faktor-Authentisierung (2FA) auf sich?\n\nTermin: Mittwoch\, 31. Januar 2024\, 19 Uhr\nOrt: OpenLab\, Bäckergasse 32\, 86150 Augsburg\nLink: https://cryptoparty.in/augsburg\nMitbringen: Laptop\, Smartphone\, Fragen\, FreundInnen\nDer Eintritt ist frei.\n\nDas neu erworbene Wissen kann im Praxisteil gemeinsam auf den eigenen Geräten ausprobiert werden. Deshalb ist es sinnvoll das eigene Notebook und/oder Smartphone mitzubringen. Es sind keine Vorkenntnisse\nerforderlich.
URL:https://auxpunks.uber.space/event/cryptoparty-augsburg-3/
LOCATION:OpenLab Augsburg
CATEGORIES:Vorträge, Filme & Workshops
END:VEVENT
BEGIN:VEVENT
DTSTART;TZID=Europe/Berlin:20240925T190000
DTEND;TZID=Europe/Berlin:20240925T210000
DTSTAMP:20260420T154615
CREATED:20240917T093713Z
LAST-MODIFIED:20240917T093714Z
UID:10014248-1727290800-1727298000@auxpunks.uber.space
SUMMARY:Mobile Sicherheit mit dem Smartphone
DESCRIPTION:Hallo\,\n\ndie CryptoParty-Gruppe Augsburg lädt ein zum Workshop für digitale\nSelbstverteidigung:\n\nWie gelingt der sichere Umgang mit Handy und Apps? Woran erkenne ich\nwelche Apps vertrauenswürdig sind? Welche Einstellungen sind zum\nbesseren Datenschutz sinnvoll?\n\nDiese und weitere Fragen beantworten wir auf einer Cryptoparty am\nMittwoch\, 25. September im OpenLab Augsburg.\n\nWann?       25. September 2024\, 19 Uhr\nWo?         OpenLab\, Bäckergasse 32\, 86150 Augsburg\nMitbringen: Handy\, Tablet\, Fragen\, FreundInnen\,…\n\nDer Eintritt ist frei.\n\nDas neu erworbene Wissen kann im Praxisteil sofort auf den eigenen\nGeräten ausprobiert werden. Deshalb ist es sinnvoll das eigene Handy\nund/oder Tablet mitzubringen. Es sind keine Vorkenntnisse erforderlich.\n\nDiese Veranstaltung ist Teil einer Veranstaltungsreihe. Geplante weitere\nThemen für Folgeveranstaltungen sind:\nFestplattenverschüsselung\, sichere und benutzbare Passwörter und Backups;\n\nLink zur Veranstaltung:\nhttps://www.cryptoparty.in/augsburg\n\nWir freuen uns auf Euch!\nEure CryptoParty-Gruppe Augsburg
URL:https://auxpunks.uber.space/event/mobile-sicherheit-mit-dem-smartphone/
LOCATION:OpenLab Augsburg
CATEGORIES:Vorträge, Filme & Workshops
END:VEVENT
BEGIN:VEVENT
DTSTART;TZID=Europe/Berlin:20240911T190000
DTEND;TZID=Europe/Berlin:20240911T220000
DTSTAMP:20260420T154615
CREATED:20240907T092413Z
LAST-MODIFIED:20240907T092413Z
UID:10014242-1726081200-1726092000@auxpunks.uber.space
SUMMARY:Bits und Bäume Monatstreffen
DESCRIPTION:Bits und Bäume ist eine Bewegung\, die Nachhaltigkeit und Digitalisierung zusammen denkt.\nDie Lokalgruppe Augsburg trifft sich am zweiten Mittwoch\, jeden Monat – kommt gern zum Austausch vorbei.
URL:https://auxpunks.uber.space/event/bits-und-baeume-monatstreffen-4/
LOCATION:OpenLab Augsburg
CATEGORIES:Plena, Treffen & Lesekreise
END:VEVENT
BEGIN:VEVENT
DTSTART;TZID=Europe/Berlin:20240710T190000
DTEND;TZID=Europe/Berlin:20240710T220000
DTSTAMP:20260420T154615
CREATED:20240626T115311Z
LAST-MODIFIED:20240626T115312Z
UID:10014158-1720638000-1720648800@auxpunks.uber.space
SUMMARY:Bits und Bäume Monatstreffen
DESCRIPTION:Die Bits und Bäume Lokalgruppe Augsburg München trifft sich am 12.6. am 19 Uhr im OpenLab in der Bäckergasse 32. Wie jeden 2. Mittwoch im Monat. Für Interessierte an Nachhaltigkeit und Digitalisierung – kommt gern zum Austausch
URL:https://auxpunks.uber.space/event/bits-und-baeume-monatstreffen-2/
LOCATION:OpenLab Augsburg
CATEGORIES:Plena, Treffen & Lesekreise
END:VEVENT
BEGIN:VEVENT
DTSTART;TZID=Europe/Berlin:20240626T190000
DTEND;TZID=Europe/Berlin:20240626T210000
DTSTAMP:20260420T154615
CREATED:20240522T064211Z
LAST-MODIFIED:20240522T064212Z
UID:10014097-1719428400-1719435600@auxpunks.uber.space
SUMMARY:CryptoParty Augsburg
DESCRIPTION:Was ist eine CryptoParty?\n\nKurz:\nWorkshops zur digitalen Selbstverteidigung\n\nLang:\nEine CryptoParty ist eine lockere\, öffentliche Veranstaltung\, bei der man lernen kann\, wie man sich im digitalen Raum (Internet) sicher und anonym bewegt\, E-Mails verschlüsselt und digital signiert (unterschreibt) oder wie man Festplatten verschlüsselt. Dabei versuchen wir\, die Vorträge einsteigerfreundlich zu gestalten. Auch rufen wir oft dazu auf\, dass Besucher ihre Geräte mitbringen\, sodass sie das zuvor erworbene Wissen auch gleich in der Praxis umsetzen können. Dabei werden sie von fachkundigen Leuten der CryptoParty unterstützt. Aber auch Profis können die Veranstaltung nutzen\, um sich mit Gleichgesinnten auszutauschen.\nCryptoPartys sind öffentlich und unkommerziell\, mit dem Fokus auf Open-Source-Software (OSS).\n\nDas Thema ist „E-Mail-Verschlüsselung“\nIn diesem Vortrag zeigen wir\, wie man seine E-Mails verschlüsseln und signieren (unterschreiben) kann. Wir gehen darauf ein\, welche E-Mail-Anbieter empfehlenswert sind (und weshalb) und wie man auch mit dem Handy sicher und bequem auf seine E-Mails zugreifen kann.
URL:https://auxpunks.uber.space/event/cryptoparty-augsburg/
LOCATION:OpenLab Augsburg
CATEGORIES:Vorträge, Filme & Workshops
END:VEVENT
BEGIN:VEVENT
DTSTART;TZID=Europe/Berlin:20240615T150000
DTEND;TZID=Europe/Berlin:20240615T235900
DTSTAMP:20260420T154615
CREATED:20240611T082628Z
LAST-MODIFIED:20240611T082629Z
UID:10014140-1718463600-1718495940@auxpunks.uber.space
SUMMARY:NerdNight 17 - D.I. ‽ WHY
DESCRIPTION:Die NerdNight 17 steht unter dem Motto „D.I. ‽ WHY“. In Vorträgen\, Lightning Talks und spontanen Gesprächsrunden möchten wir uns darüber austauschen\, warum wir Dinge selbst machen\, und wie wir die Probleme lösen\, die dabei unweigerlich auftreten.\n\nDas Programm und alle weiteren wichtigen Infos findet Ihr auf der Veranstaltungswebseite\n\nhttps://openlab-augsburg.de/nerdnight
URL:https://auxpunks.uber.space/event/nerdnight-17-d-i-%e2%80%bd-why/
LOCATION:OpenLab Augsburg
CATEGORIES:Konzerte & Feiern,Vorträge, Filme & Workshops
ORGANIZER;CN="OpenLab Augsburg e.V.":MAILTO:kontakt@openlab-augsburg.de
END:VEVENT
BEGIN:VEVENT
DTSTART;TZID=Europe/Berlin:20240612T190000
DTEND;TZID=Europe/Berlin:20240612T220000
DTSTAMP:20260420T154615
CREATED:20240607T160055Z
LAST-MODIFIED:20240607T160056Z
UID:10014127-1718218800-1718229600@auxpunks.uber.space
SUMMARY:Bits und Bäume Monatstreffen
DESCRIPTION:Die Bits und Bäume Lokalgruppe Augsburg München trifft sich am 12.6. am 19 Uhr im OpenLab in der Bäckergasse 32. Wie jeden 2. Mittwoch im Monat.\nFür Interessierte an Nachhaltigkeit und Digitalisierung – kommt gern zum Austausch
URL:https://auxpunks.uber.space/event/bits-und-baeume-monatstreffen/
LOCATION:OpenLab Augsburg
CATEGORIES:Plena, Treffen & Lesekreise
END:VEVENT
BEGIN:VEVENT
DTSTART;TZID=Europe/Berlin:20240529T190000
DTEND;TZID=Europe/Berlin:20240529T213000
DTSTAMP:20260420T154615
CREATED:20240522T064219Z
LAST-MODIFIED:20240522T064220Z
UID:10014096-1717009200-1717018200@auxpunks.uber.space
SUMMARY:CryptoParty Augsburg
DESCRIPTION:Was ist eine CryptoParty?\n\nKurz:\nWorkshops zur digitalen Selbstverteidigung\n\nLang:\nEine CryptoParty ist eine lockere\, öffentliche Veranstaltung\, bei der man lernen kann\, wie man sich im digitalen Raum (Internet) sicher und anonym bewegt\, E-Mails verschlüsselt und digital signiert (unterschreibt) oder wie man Festplatten verschlüsselt. Dabei versuchen wir\, die Vorträge einsteigerfreundlich zu gestalten. Auch rufen wir oft dazu auf\, dass Besucher ihre Geräte mitbringen\, sodass sie das zuvor erworbene Wissen auch gleich in der Praxis umsetzen können. Dabei werden sie von fachkundigen Leuten der CryptoParty unterstützt. Aber auch Profis können die Veranstaltung nutzen\, um sich mit Gleichgesinnten auszutauschen.\nCryptoPartys sind öffentlich und unkommerziell\, mit dem Fokus auf Open-Source-Software (OSS).\n\nDas Thema ist „Warum digitale Selbstverteidigung?“.\nIn diesem Vortrag geht es darum\, warum man sich digital selbst verteidigen sollte. Wir gehen darauf ein\, warum sichere Kommunikation wichtig ist\, warum man Festplatten verschlüsseln sollte und warum man sich diesen Aufwand machen sollte.
URL:https://auxpunks.uber.space/event/cryptoparty-augsburg-2/
LOCATION:OpenLab Augsburg
CATEGORIES:Vorträge, Filme & Workshops
END:VEVENT
END:VCALENDAR