BEGIN:VCALENDAR
VERSION:2.0
PRODID:-//auxpunks - ECPv6.15.11//NONSGML v1.0//EN
CALSCALE:GREGORIAN
METHOD:PUBLISH
X-WR-CALNAME:auxpunks
X-ORIGINAL-URL:https://auxpunks.uber.space
X-WR-CALDESC:Veranstaltungen für auxpunks
REFRESH-INTERVAL;VALUE=DURATION:PT1H
X-Robots-Tag:noindex
X-PUBLISHED-TTL:PT1H
BEGIN:VTIMEZONE
TZID:Europe/Berlin
BEGIN:DAYLIGHT
TZOFFSETFROM:+0100
TZOFFSETTO:+0200
TZNAME:CEST
DTSTART:20230326T010000
END:DAYLIGHT
BEGIN:STANDARD
TZOFFSETFROM:+0200
TZOFFSETTO:+0100
TZNAME:CET
DTSTART:20231029T010000
END:STANDARD
BEGIN:DAYLIGHT
TZOFFSETFROM:+0100
TZOFFSETTO:+0200
TZNAME:CEST
DTSTART:20240331T010000
END:DAYLIGHT
BEGIN:STANDARD
TZOFFSETFROM:+0200
TZOFFSETTO:+0100
TZNAME:CET
DTSTART:20241027T010000
END:STANDARD
BEGIN:DAYLIGHT
TZOFFSETFROM:+0100
TZOFFSETTO:+0200
TZNAME:CEST
DTSTART:20250330T010000
END:DAYLIGHT
BEGIN:STANDARD
TZOFFSETFROM:+0200
TZOFFSETTO:+0100
TZNAME:CET
DTSTART:20251026T010000
END:STANDARD
BEGIN:DAYLIGHT
TZOFFSETFROM:+0100
TZOFFSETTO:+0200
TZNAME:CEST
DTSTART:20260329T010000
END:DAYLIGHT
BEGIN:STANDARD
TZOFFSETFROM:+0200
TZOFFSETTO:+0100
TZNAME:CET
DTSTART:20261025T010000
END:STANDARD
END:VTIMEZONE
BEGIN:VEVENT
DTSTART;TZID=Europe/Berlin:20251108T150000
DTEND;TZID=Europe/Berlin:20251108T170000
DTSTAMP:20260423T163016
CREATED:20251016T162455Z
LAST-MODIFIED:20251016T164456Z
UID:10015907-1762614000-1762621200@auxpunks.uber.space
SUMMARY:Antifaschistisches Elterncafe
DESCRIPTION:Das antifaschistische Elterncafe zieht um ins Provino! Kommt zum Spielen\, Ratschen\, Kaffee und Kuchen vorbei. Wir freuen uns über Kinder jeden Alters\, Menschen die Erziehungsaufgaben übernehmen\, aber auch alle anderen die vorbeischauen
URL:https://auxpunks.uber.space/event/antifaschistisches-elterncafe-2/
LOCATION:Provino\, Provinostraße 35\, Augsburg
CATEGORIES:Linke Einführungswochen 2025
ATTACH;FMTTYPE=image/png:https://auxpunks.uber.space/wp-content/uploads/2025/10/Design-ohne-Titel.png
END:VEVENT
BEGIN:VEVENT
DTSTART;TZID=Europe/Berlin:20250913T200000
DTEND;TZID=Europe/Berlin:20250913T235500
DTSTAMP:20260423T163016
CREATED:20250802T161024Z
LAST-MODIFIED:20250802T161025Z
UID:10015749-1757793600-1757807700@auxpunks.uber.space
SUMMARY:PunkRockMarkt Augsburg - Aftershow
DESCRIPTION:Am Abend verwandelt sich die Kegelbahn von einem Ausstellungsort zum Konzertraum\, denn ab 20 Uhr wird’s laut Die Aftershow bringt die Halle zum Beben mit Live-Gigs von Ponys auf Pump\, b.u.s.e.n.n.e.i.d und KMAT – ein Pflichttermin!\n\nEintritt auf Spendenbasis (geht wie immer alles an die Künstler:innen)
URL:https://auxpunks.uber.space/event/punkrockmarkt-augsburg-aftershow/
LOCATION:Provino\, Provinostraße 35\, Augsburg
CATEGORIES:Konzerte & Feiern
END:VEVENT
BEGIN:VEVENT
DTSTART;TZID=Europe/Berlin:20250913T120000
DTEND;TZID=Europe/Berlin:20250913T235500
DTSTAMP:20260423T163016
CREATED:20250802T160948Z
LAST-MODIFIED:20250802T160949Z
UID:10015748-1757764800-1757807700@auxpunks.uber.space
SUMMARY:PunkRockMarkt Augsburg
DESCRIPTION:Punk\, Kunst und Krawall – Der PunkRockMarkt Augsburg geht in die dritte Runde!\n\nBereit für das Highlight des Jahres? Der PunkRockMarket Augsburg geht in die dritte Runde und öffnet am 13. September 2025 erneut seine Tore! Ab 12:00 Uhr verwandelt sich das Gelände des Provino Clubs\, Provino Straße 35 in Augsburg in einen lebendigen Treffpunkt für DIY-Kultur\, Kunst\, Musik und Subkultur. Erlebe einen unvergesslichen Tag voller handgemachter Unikate und Solidarität. Von einem DIY-Künstler:innen Markt über Infostände mit Kartentausch bis hin zu großartigen Tattooartists\, die ihre Flashes anbieten – hier ist für jeden etwas dabei.\n\nDie Veranstaltung wird von Akustik-Live-Musik verschiedener Bands begleitet. Für die kleinen Besucher:innen gibt es ein besonderes Highlight: Die „Krakeelen“ spielen ein Kinder-Punk-Konzert\, und es warten spannende Spiel- und Bastelaktivitäten auf die Jüngsten. Ab 20:00 Uhr wird’s laut\, wenn die Aftershow mit Live-Gigs von Ponys auf Pump\, b.u.s.e.n.n.e.i.d und KMAT die Halle zum Beben bringt – ein Pflichttermin für alle Punkrock-Fans!\n\nDer PunkRockMarket ist mehr als nur ein Markt – er ist ein Ort des Austauschs und der Kreativität\, wo Gleichgesinnte zusammenkommen. Genieße leckere Verpflegung mit Kaffee\, Kuchen und Herzhaftem und lass dich von der einzigartigen Atmosphäre mitreißen. \n\nInfos zu allen teilnehmenden Gruppen\, Artists und Bands sowie Updates gibt es auf Instagram unter @punkrockmarket_aux. Sei dabei und erlebe den PunkRockMarket wie immer im Geiste der DIY- und Punk-Kultur: unabhängig\, solidarisch und mit jeder Menge Herzblut.\n\nAlso: Markiere dir den 13. September 2025 im Kalender und bring deine Freund:innen mit!
URL:https://auxpunks.uber.space/event/punkrockmarkt-augsburg/
LOCATION:Provino\, Provinostraße 35\, Augsburg
CATEGORIES:Konzerte & Feiern
END:VEVENT
BEGIN:VEVENT
DTSTART;TZID=Europe/Berlin:20240914T130000
DTEND;TZID=Europe/Berlin:20240914T210000
DTSTAMP:20260423T163016
CREATED:20240823T080442Z
LAST-MODIFIED:20240827T120352Z
UID:10014211-1726318800-1726347600@auxpunks.uber.space
SUMMARY:PunkRockMarket Augsburg
DESCRIPTION:Bereit für das Highlight des Jahres? Der erste PunkRockMarket Augsburgs öffnet seine Tore und lädt alle Punkrock-Fans ein\, einen unvergesslichen Tag voller Musik\, Kultur und Gemeinschaft zu erleben! \nAm 14 September 2024 verwandelt sich das Gelände des Provino Clubs in einen lebendigen Ort der Solidarität. Von 13:00 bis 21:00 Uhr erwartet dich ein vielfältiges Programm\, bestehend aus einem DIY-Künstler:innen Markt\, einem Haufen Infoständen\, großartigen Tattooartists deren Flashes abzustauben sind\, sowie einem bunten Kinderprogramm! Begleitet wird der Spaß von Akustik-Live-Musik verschiedener Bands!\n\nDer Punk Rock Market ist mehr als nur ein Markt – er ist ein Treffpunkt für Gleichgesinnte\, ein Ort des Austauschs und der Kreativität. \nDer Punk Rock Market ist das ultimative Event für alle Liebhaber:innen des Punkrocks und der alternativen Subkulturen.
URL:https://auxpunks.uber.space/event/punktrockmarket-augsburg/
LOCATION:Provino\, Provinostraße 35\, Augsburg
CATEGORIES:Highlights
END:VEVENT
END:VCALENDAR