BEGIN:VCALENDAR
VERSION:2.0
PRODID:-//auxpunks - ECPv6.15.11//NONSGML v1.0//EN
CALSCALE:GREGORIAN
METHOD:PUBLISH
X-ORIGINAL-URL:https://auxpunks.uber.space
X-WR-CALDESC:Veranstaltungen für auxpunks
REFRESH-INTERVAL;VALUE=DURATION:PT1H
X-Robots-Tag:noindex
X-PUBLISHED-TTL:PT1H
BEGIN:VTIMEZONE
TZID:Europe/Berlin
BEGIN:DAYLIGHT
TZOFFSETFROM:+0100
TZOFFSETTO:+0200
TZNAME:CEST
DTSTART:20240331T010000
END:DAYLIGHT
BEGIN:STANDARD
TZOFFSETFROM:+0200
TZOFFSETTO:+0100
TZNAME:CET
DTSTART:20241027T010000
END:STANDARD
BEGIN:DAYLIGHT
TZOFFSETFROM:+0100
TZOFFSETTO:+0200
TZNAME:CEST
DTSTART:20250330T010000
END:DAYLIGHT
BEGIN:STANDARD
TZOFFSETFROM:+0200
TZOFFSETTO:+0100
TZNAME:CET
DTSTART:20251026T010000
END:STANDARD
BEGIN:DAYLIGHT
TZOFFSETFROM:+0100
TZOFFSETTO:+0200
TZNAME:CEST
DTSTART:20260329T010000
END:DAYLIGHT
BEGIN:STANDARD
TZOFFSETFROM:+0200
TZOFFSETTO:+0100
TZNAME:CET
DTSTART:20261025T010000
END:STANDARD
END:VTIMEZONE
BEGIN:VEVENT
DTSTART;TZID=Europe/Berlin:20250207T190000
DTEND;TZID=Europe/Berlin:20250207T210000
DTSTAMP:20260421T020110
CREATED:20250127T130233Z
LAST-MODIFIED:20250127T130233Z
UID:10014440-1738954800-1738962000@auxpunks.uber.space
SUMMARY:Omas for Future - Handeln aus Liebe zum Leben"- Buchvorstellung mit Cordula Weimann
DESCRIPTION:Cordula Weimann ist mit ihren 65 Jahren erfolgreiche Unternehmerin. Viele Jahre glaubte sie an das alte Wohlstandsversprechen: „Höher\, schneller\, weiter!“ Doch damit ist längst Schluss! Als Cordula Weimann 2019 in die Augen ihres Enkels blickte\, erkannte sie: „Etwas muss sich ändern\, damit auch er eine lebenswerte Zukunft bekommt.“ Und so gründete sie die „Omas for Future“. Mit Erfolg: Heute zählt der Verein fast 100 Regionalgruppen allein in Deutschland. Nun erschien das Buch zur Bewegung.\nJetzt tourt sie damit durch ganz Deutschland und kommt auch nach Augsburg!\n\n„Was braucht ein Land\, damit alle Menschen glücklich sind?“\, „Wie sieht eine lebenswerte Stadt aus?“\, „Warum braucht es für den Wandel gerade Frauen der Generation Ü50?“ – diese und weitere Fragen werden in einem mitreißenden Vortrag besprochen. \n \nWann? Freitag\, 07. Februar 2025\, 19 Uhr\nWo? Stadtbücherei Augsburg\, Ernst-Reuter Platz 1\n \nErzählt es weiter und teilt die Veranstaltungen! Wir freuen uns über zahlreiches Erscheinen. Anmeldungen unter: augsburg@omasforfuture.de\n\nWeitere Infos findet ihr unter: https://omasforfuture.de/buch/#lesereise\n \nEure Omas for Future Augsburg!
URL:https://auxpunks.uber.space/event/omas-for-future-handeln-aus-liebe-zum-leben-buchvorstellung-mit-cordula-weimann/
LOCATION:Stadtbücherei Augsburg
CATEGORIES:Klimagerechtigkeit,Vorträge, Filme & Workshops
ORGANIZER;CN="Omas for Future Augsburg":MAILTO:augsburg@omasforfuture.de
END:VEVENT
END:VCALENDAR