BEGIN:VCALENDAR
VERSION:2.0
PRODID:-//auxpunks - ECPv6.15.11//NONSGML v1.0//EN
CALSCALE:GREGORIAN
METHOD:PUBLISH
X-ORIGINAL-URL:https://auxpunks.uber.space
X-WR-CALDESC:Veranstaltungen für auxpunks
REFRESH-INTERVAL;VALUE=DURATION:PT1H
X-Robots-Tag:noindex
X-PUBLISHED-TTL:PT1H
BEGIN:VTIMEZONE
TZID:Europe/Berlin
BEGIN:DAYLIGHT
TZOFFSETFROM:+0100
TZOFFSETTO:+0200
TZNAME:CEST
DTSTART:20240331T010000
END:DAYLIGHT
BEGIN:STANDARD
TZOFFSETFROM:+0200
TZOFFSETTO:+0100
TZNAME:CET
DTSTART:20241027T010000
END:STANDARD
BEGIN:DAYLIGHT
TZOFFSETFROM:+0100
TZOFFSETTO:+0200
TZNAME:CEST
DTSTART:20250330T010000
END:DAYLIGHT
BEGIN:STANDARD
TZOFFSETFROM:+0200
TZOFFSETTO:+0100
TZNAME:CET
DTSTART:20251026T010000
END:STANDARD
BEGIN:DAYLIGHT
TZOFFSETFROM:+0100
TZOFFSETTO:+0200
TZNAME:CEST
DTSTART:20260329T010000
END:DAYLIGHT
BEGIN:STANDARD
TZOFFSETFROM:+0200
TZOFFSETTO:+0100
TZNAME:CET
DTSTART:20261025T010000
END:STANDARD
BEGIN:DAYLIGHT
TZOFFSETFROM:+0100
TZOFFSETTO:+0200
TZNAME:CEST
DTSTART:20270328T010000
END:DAYLIGHT
BEGIN:STANDARD
TZOFFSETFROM:+0200
TZOFFSETTO:+0100
TZNAME:CET
DTSTART:20271031T010000
END:STANDARD
END:VTIMEZONE
BEGIN:VEVENT
DTSTART;TZID=Europe/Berlin:20260116T173000
DTEND;TZID=Europe/Berlin:20260116T190000
DTSTAMP:20260420T181549
CREATED:20260115T075013Z
LAST-MODIFIED:20260115T075013Z
UID:10016050-1768584600-1768590000@auxpunks.uber.space
SUMMARY:Jakob Springfeld Lesung
DESCRIPTION:Im Rahmen der Kampagne Augsburg Democracy Mode lädt der Stadtjugendring Augsburg in Kooperation mit dem Bündnis für Menschenwürde\, ZAM e.V.\, Augsburg gegen Rechts und dem Büro für gesellschaftliche Integration zur Lesung und zum Gespräch mit dem Autor und Aktivisten Jakob Springfeld ein. Unter dem Titel „HINSEHEN“ liest Springfeld aus seinen Büchern „Unter Nazis – Jung\, ostdeutsch\, gegen Rechts“ und „Der Westen hat keine Ahnung\, was im Osten passiert“.\n\nDie Lesung thematisiert die Realität von Rechtsextremismus in Deutschland: Bedrohungen\, Gewalt und Angst\, aber auch Mut\, Widerstand und die Stärke einer aktiven Zivilgesellschaft. Springfeld macht deutlich\, dass das Erstarken rechter Ideologien kein regionales Problem ist\, sondern unsere gesamte Gesellschaft betrifft.\n\nIm anschließenden Gespräch geht es darum\, warum Wegschauen keine Option ist und was jede*r Einzelne tun kann\, um Demokratie und Menschenrechte zu verteidigen. Die Veranstaltung richtet sich insbesondere an junge Menschen\, ist aber offen für alle Interessierten.
URL:https://auxpunks.uber.space/event/jakob-springfeld-lesung/
LOCATION:Yolo Toast\, Ludwigstraße 13\, Augsburg\, 86152
CATEGORIES:Theater, Austellungen & Lesungen
ATTACH;FMTTYPE=image/jpeg:https://auxpunks.uber.space/wp-content/uploads/2026/01/WhatsApp-Image-2026-01-11-at-14.41.35-2.jpeg
ORGANIZER;CN="Augsburg gegen rechts u.v.m.":MAILTO:anna.miessl@gmx.net
END:VEVENT
BEGIN:VEVENT
DTSTART;TZID=Europe/Berlin:20250920T200000
DTEND;TZID=Europe/Berlin:20250920T230000
DTSTAMP:20260420T181549
CREATED:20250829T133155Z
LAST-MODIFIED:20250829T133156Z
UID:10015767-1758398400-1758409200@auxpunks.uber.space
SUMMARY:Barackca & Idol Machine (Punk/Rock/Hardcore) @Yolo Toast
DESCRIPTION:After ten days on the road\, Idol Machine and Barackca will be finishing their tour in Augsburg at Yolo Toast.\n\nCome around for some great Punk/Rock/Hardcore music and drinks!
URL:https://auxpunks.uber.space/event/barackca-idol-machine-punk-rock-hardcore-yolo-toast/
LOCATION:Yolo Toast\, Ludwigstraße 13\, Augsburg\, 86152
CATEGORIES:Konzerte & Feiern
END:VEVENT
END:VCALENDAR